BEGIN:VCALENDAR
VERSION:2.0
PRODID:-//LUD Literatura - ECPv6.15.3//NONSGML v1.0//EN
CALSCALE:GREGORIAN
METHOD:PUBLISH
X-WR-CALNAME:LUD Literatura
X-ORIGINAL-URL:https://www.ludliteratura.si
X-WR-CALDESC:Dogodki za LUD Literatura
REFRESH-INTERVAL;VALUE=DURATION:PT1H
X-Robots-Tag:noindex
X-PUBLISHED-TTL:PT1H
BEGIN:VTIMEZONE
TZID:Europe/Ljubljana
BEGIN:DAYLIGHT
TZOFFSETFROM:+0100
TZOFFSETTO:+0200
TZNAME:CEST
DTSTART:20160327T010000
END:DAYLIGHT
BEGIN:STANDARD
TZOFFSETFROM:+0200
TZOFFSETTO:+0100
TZNAME:CET
DTSTART:20161030T010000
END:STANDARD
BEGIN:DAYLIGHT
TZOFFSETFROM:+0100
TZOFFSETTO:+0200
TZNAME:CEST
DTSTART:20170326T010000
END:DAYLIGHT
BEGIN:STANDARD
TZOFFSETFROM:+0200
TZOFFSETTO:+0100
TZNAME:CET
DTSTART:20171029T010000
END:STANDARD
BEGIN:DAYLIGHT
TZOFFSETFROM:+0100
TZOFFSETTO:+0200
TZNAME:CEST
DTSTART:20180325T010000
END:DAYLIGHT
BEGIN:STANDARD
TZOFFSETFROM:+0200
TZOFFSETTO:+0100
TZNAME:CET
DTSTART:20181028T010000
END:STANDARD
END:VTIMEZONE
BEGIN:VEVENT
DTSTART;TZID=Europe/Ljubljana:20180608T180000
DTEND;TZID=Europe/Ljubljana:20180608T200000
DTSTAMP:20260422T155407
CREATED:20180507T082831Z
LAST-MODIFIED:20180507T082831Z
UID:58431-1528480800-1528488000@www.ludliteratura.si
SUMMARY:Prevod na oknu: Saša Jerele
DESCRIPTION:Prevod na oknu – izbor antologijskih literarnih prevodov: Saša Jerele in Petra Koršič. \nDogodek podpira Javna agencija za knjigo RS.
URL:https://www.ludliteratura.si/dogodek/prevod-na-oknu-sasa-jerele/
LOCATION:Trubarjeva hiša literature\, Stritarjeva 7\, Ljubljana\, 1000\, Slovenia
END:VEVENT
BEGIN:VEVENT
DTSTART;TZID=Europe/Ljubljana:20180529T180000
DTEND;TZID=Europe/Ljubljana:20180529T200000
DTSTAMP:20260422T155407
CREATED:20180521T080520Z
LAST-MODIFIED:20180521T080520Z
UID:58582-1527616800-1527624000@www.ludliteratura.si
SUMMARY:Primerljivi hektarji
DESCRIPTION:»Podzemlje je narejeno za spoznanja. Nekaj dni prej me je oče odpeljal v Radovanovo vinsko klet pokušat letino\, in zgodilo se je\, da sem dvajset metrov pod zemljo padla s hruške.« \nNataša Kramberger: Primerljivi hektarji \n​Obstajajo zgodbe\, ki se začnejo v podzemlju. In obstajajo podzemlja\, ki skrivajo zaklade. \nPisateljica Nataša Kramberger in vinogradnik Radovan Šuman združujeta moči v pripovedniško-vinski večer\, ki bo v življenje pospremil Natašin najnovejši roman Primerljivi hektarji: pripoved v setvenem koledarju. Roman\, v katerem tako ali drugače nastopata oba. Zakaj? Kako? Pa res? Pridite in slišali boste. \nVečer smo zasnovali kot pripovedniško-vinski dialog med Natašo in Radovanom. Padla bo tudi kakšna sončna kaplja.​ \nNa dogodku bo možno kupiti roman Primerljivi hektarji po znižani ceni 15 evrov. Kdor bo želel\, bo seveda dobil tudi avtoričin podpis. \nPrav tako bo po branju (okrog 20h) možno obiskati Radovanovo vinsko klet s posebno pokušnjo vseh njegovih biodinamičnih vin\, certificiranih Demeter\, po znižani ceni 10 evrov. Po možnosti se na pokušnjo predčasno prijavite na info@vino-suman.eu.
URL:https://www.ludliteratura.si/dogodek/primerljivi-hektarji/
LOCATION:Kmetija Šuman\, Zavrh\, Voličina\, Slovenia
END:VEVENT
BEGIN:VEVENT
DTSTART;TZID=Europe/Ljubljana:20180330T190000
DTEND;TZID=Europe/Ljubljana:20180330T210000
DTSTAMP:20260422T155407
CREATED:20180328T063030Z
LAST-MODIFIED:20180328T063030Z
UID:58164-1522436400-1522443600@www.ludliteratura.si
SUMMARY:Ad hoc: Mustar\, Dimkovska\, Jakimovska - Rodić\, Atanasovski
DESCRIPTION:Na avtorsko interpretirano poezijo Aleša Mustarja in Lidije Dimkovske bosta v živo ustvarila vizualni odziv slikarka Svetlana Jakimovska – Rodić in glasbeni odziv skladatelj in saksofonist Vasko Atanasovski. Cikel vodi Petra Koršič.\n\n\nDogodek v organizaciji LUD Literatura\, soorganizator Trubarjeva hiša literature\, je izveden v sklopu literarnih dogodkov\, ki jih podpira Javna agencija za knjigo Republike Slovenije.
URL:https://www.ludliteratura.si/dogodek/ad-hoc-mustar-dimkovska-jakimovska-rodic-atanasovski/
LOCATION:Trubarjeva hiša literature\, Stritarjeva 7\, Ljubljana\, 1000\, Slovenia
CATEGORIES:ad hoc
END:VEVENT
BEGIN:VEVENT
DTSTART;TZID=Europe/Ljubljana:20180323T193000
DTEND;TZID=Europe/Ljubljana:20180323T210000
DTSTAMP:20260422T155407
CREATED:20180319T081353Z
LAST-MODIFIED:20180319T081917Z
UID:58086-1521833400-1521838800@www.ludliteratura.si
SUMMARY:Prevod na oknu – Borut Kraševec
DESCRIPTION:Prevod na oknu je literarni cikel\, v katerem književni prevajalci predstavijo svoje izbore odličnih prevodov\, ki širijo in bogatijo jezik in kulturo. O svojem izboru prevodov v slovenski jezik bo ob vprašanjih Petre Koršič spregovoril prevajalec Borut Kraševec\, Sovretov nagrajenec leta 2014 za prevod Svete knjige volkodlaka Viktorja Pelevina. Predstavil ga bo ob prebiranju primerov prevodov drugih prevajalcev ter svojih prevajalskih izkušenj in dognanj. \nDogodek v organizaciji LUD Literatura je izveden v sklopu literarnih dogodkov\, ki jih podpira Javna agencija za knjigo Republike Slovenije.
URL:https://www.ludliteratura.si/dogodek/prevod-na-oknu-izbor-antologijskih-prevodov-v-slovenscino/
LOCATION:Trubarjeva hiša literature\, Stritarjeva 7\, Ljubljana\, 1000\, Slovenia
CATEGORIES:prevod na oknu
END:VEVENT
BEGIN:VEVENT
DTSTART;TZID=Europe/Ljubljana:20171222T190000
DTEND;TZID=Europe/Ljubljana:20171222T200000
DTSTAMP:20260422T155407
CREATED:20171211T075008Z
LAST-MODIFIED:20171211T075008Z
UID:57437-1513969200-1513972800@www.ludliteratura.si
SUMMARY:Prevod na oknu – Nives Vidrih in Petra Koršič
DESCRIPTION:Prevod na oknu – Nives Vidrih in Petra Koršič (Trubarjeva hiša literature)
URL:https://www.ludliteratura.si/dogodek/prevod-na-oknu-nives-vidrih-in-petra-korsic/
LOCATION:Trubarjeva hiša literature\, Stritarjeva 7\, Ljubljana\, 1000\, Slovenia
END:VEVENT
BEGIN:VEVENT
DTSTART;TZID=Europe/Ljubljana:20171218T170000
DTEND;TZID=Europe/Ljubljana:20171218T190000
DTSTAMP:20260422T155407
CREATED:20171211T073430Z
LAST-MODIFIED:20171211T073430Z
UID:57434-1513616400-1513623600@www.ludliteratura.si
SUMMARY:Jernej Županič in Andrej Hočevar
DESCRIPTION:Na pesniškem in proznem branju se bosta predstavila Jernej Županič in Andrej Hočevar.
URL:https://www.ludliteratura.si/dogodek/jernej-zupanic-in-andrej-hocevar/
LOCATION:Trubarjeva hiša literature\, Stritarjeva 7\, Ljubljana\, 1000\, Slovenia
END:VEVENT
BEGIN:VEVENT
DTSTART;TZID=Europe/Ljubljana:20171215T200000
DTEND;TZID=Europe/Ljubljana:20171215T230000
DTSTAMP:20260422T155407
CREATED:20171211T075126Z
LAST-MODIFIED:20171211T075126Z
UID:57438-1513368000-1513378800@www.ludliteratura.si
SUMMARY:Obrat literarne pare 2017→2018
DESCRIPTION:Obrat literarne pare – prednovoletno druženje LUD Literatura in Divje misli (Vodnikova domačija Šiška) \n 
URL:https://www.ludliteratura.si/dogodek/obrat-literarne-pare-2017%e2%86%922018/
LOCATION:Vodnikova domačija\, Vodnikova cesta 65\, Ljubljana\, Slovenia
END:VEVENT
BEGIN:VEVENT
DTSTART;TZID=Europe/Ljubljana:20171214T170000
DTEND;TZID=Europe/Ljubljana:20171214T180000
DTSTAMP:20260422T155407
CREATED:20171211T074925Z
LAST-MODIFIED:20171211T074925Z
UID:57436-1513270800-1513274400@www.ludliteratura.si
SUMMARY:Prevod na oknu – Srečko Fišer in Petra Koršič
DESCRIPTION:Prevod na oknu – Srečko Fišer in Petra Koršič
URL:https://www.ludliteratura.si/dogodek/prevod-na-oknu-srecko-fiser-in-petra-korsic/
LOCATION:Trubarjeva hiša literature\, Stritarjeva 7\, Ljubljana\, 1000\, Slovenia
END:VEVENT
BEGIN:VEVENT
DTSTART;TZID=Europe/Ljubljana:20171110T190000
DTEND;TZID=Europe/Ljubljana:20171110T210000
DTSTAMP:20260422T155407
CREATED:20171015T071938Z
LAST-MODIFIED:20171106T080119Z
UID:57116-1510340400-1510347600@www.ludliteratura.si
SUMMARY:Ad hoc literatura v živo
DESCRIPTION:Vinko Möderndorfer\, Miljana Cunta – poezija\nBoris Šinigoj – glasbeni odziv na poezijo\nAndreja Gregorič – likovni odziv na poezijo\nvodi: Petra Koršič\n \nDogodke organizira LUD Literatura\, finančno podpira JAK RS.\n 
URL:https://www.ludliteratura.si/dogodek/ad-hoc-literatura-v-zivo/
LOCATION:Trubarjeva hiša literature\, Stritarjeva 7\, Ljubljana\, 1000\, Slovenia
END:VEVENT
BEGIN:VEVENT
DTSTART;TZID=Europe/Ljubljana:20171103T190000
DTEND;TZID=Europe/Ljubljana:20171103T210000
DTSTAMP:20260422T155407
CREATED:20171015T071852Z
LAST-MODIFIED:20171015T072601Z
UID:57115-1509735600-1509742800@www.ludliteratura.si
SUMMARY:Kritika do nacga
DESCRIPTION:Svoja izbora (sodobnih) slovenskih antologijskih/najpesmi bosta pripravili Diana Pungeršič in Anja Grmovšek; vodi Petra Koršič.\n \nDogodke organizira LUD Literatura\, finančno podpira JAK RS.
URL:https://www.ludliteratura.si/dogodek/kritika-do-nacga/
LOCATION:Trubarjeva hiša literature\, Stritarjeva 7\, Ljubljana\, 1000\, Slovenia
END:VEVENT
BEGIN:VEVENT
DTSTART;TZID=Europe/Ljubljana:20171024T190000
DTEND;TZID=Europe/Ljubljana:20171024T213000
DTSTAMP:20260422T155407
CREATED:20171015T071800Z
LAST-MODIFIED:20171016T065239Z
UID:57114-1508871600-1508880600@www.ludliteratura.si
SUMMARY:Prevod na oknu
DESCRIPTION:Prevajalca Andrej Pleterski in Špela Sevšek Šramel bosta predstavila svoja izbora uspelih prevodov v slovenski jezik\, brez njih bi bila naša jezik in kultura siromašnejša. Vodi Petra Koršič. \n \nDogodke organizira LUD Literatura\, finančno podpira JAK RS.
URL:https://www.ludliteratura.si/dogodek/prevod-na-oknu/
LOCATION:Trubarjeva hiša literature\, Stritarjeva 7\, Ljubljana\, 1000\, Slovenia
END:VEVENT
BEGIN:VEVENT
DTSTART;TZID=Europe/Ljubljana:20170926T190000
DTEND;TZID=Europe/Ljubljana:20170926T210000
DTSTAMP:20260422T155407
CREATED:20170922T174627Z
LAST-MODIFIED:20170925T192204Z
UID:56994-1506452400-1506459600@www.ludliteratura.si
SUMMARY:Hibridni žanri
DESCRIPTION:O pravkar izdani knjigi Hibridni žanri. Študije o križancih izkustva\, mišljenja in literature (Literatura\, 2017) se bodo pogovarjali njen avtor\, prof. dr. Marko Juvan (predstojnik Inštituta za slovensko literaturo in literarne vede ZRC SAZU)\, Tomaž Grušovnik (Univerza na Primorskem)\, filozof in pisec hibridnih žanrov\, in Iva Kosmos\, raziskovalka Inštituta za kulturne in spominske študije ZRC SAZU. \n»Hibridnost\, koncept\, ki ga je Bahtin iz naravoslovja in jezikoslovja prenesel v literarno poetiko in teorijo kulture«\, ni produktiven le v teoriji žanrov\, o čemer teče beseda v knjigi Hibridni žanri\, izboru Juvanovih razprav\, objavljenih med letoma 2001 in 2014. Hibridnost se je »kot pojem liberalnih univerzitetnikov« uveljavila tudi v postkolonialnih in kulturnih študijah\, ki posegajo na področje politike identitet. Avtor se v svoji knjigi osredinja predvsem na »nekatere zvrsti novoveškega evropskega pisanja\, v katerih se konstitutivno prežemajo literatura\, mišljenje in izkustvo«\, in se sprehodi tudi do sodobnih primerov. Pri tem se\, upoštevaje Bahtinovo pojmovanje\, dotika tudi »družbeno-ideoloških in političnih zaledij hibridnosti«.
URL:https://www.ludliteratura.si/dogodek/hibridni-zanri/
LOCATION:Knjigarna Azil\, Novi trg 2\, Ljubljana\, 1000\, Slovenia
END:VEVENT
BEGIN:VEVENT
DTSTART;TZID=Europe/Ljubljana:20170922T190000
DTEND;TZID=Europe/Ljubljana:20170922T210000
DTSTAMP:20260422T155407
CREATED:20170831T085011Z
LAST-MODIFIED:20170831T085113Z
UID:56825-1506106800-1506114000@www.ludliteratura.si
SUMMARY:Branje in pogovor: Arjan Pregl\, Mitja Drab
DESCRIPTION:O ženski\, ki ni hotela z balkona Arjana Pregla in Nočne živali Mitje Draba \nArjan Pregl in Mitja Drab bosta z branjem kratkih zgodb in pesmi ter pogovorom s Petro Koršič predstavila svoji novi knjigi\, ki sta izšli v zbirki Prišleki pri LUD Literatura. \nDogodek organizira LUD Literatura s finančno podporo JAK-a RS.
URL:https://www.ludliteratura.si/dogodek/branje-in-pogovor-arjan-pregl-mitja-drab/
LOCATION:Trubarjeva hiša literature\, Stritarjeva 7\, Ljubljana\, 1000\, Slovenia
END:VEVENT
BEGIN:VEVENT
DTSTART;TZID=Europe/Ljubljana:20170630T190000
DTEND;TZID=Europe/Ljubljana:20170630T210000
DTSTAMP:20260422T155407
CREATED:20170627T081042Z
LAST-MODIFIED:20170627T081042Z
UID:56545-1498849200-1498856400@www.ludliteratura.si
SUMMARY:Ad hoc: Svetina\, Potocco\, Babojelić\, Malle
DESCRIPTION:Poezija:\nPeter Svetina: Vsakdanje geometrije\nMarcello Potocco: Poznam te črne stvari \nGlasba:\nMario Babojelić \nSlika:\nMirko Malle
URL:https://www.ludliteratura.si/dogodek/ad-hoc-svetina-potocco-babojelic-malle/
LOCATION:Trubarjeva hiša literature\, Stritarjeva 7\, Ljubljana\, 1000\, Slovenia
CATEGORIES:ad hoc
END:VEVENT
BEGIN:VEVENT
DTSTART;TZID=Europe/Ljubljana:20170414T190000
DTEND;TZID=Europe/Ljubljana:20170414T210000
DTSTAMP:20260422T155407
CREATED:20170410T035122Z
LAST-MODIFIED:20170410T035122Z
UID:56022-1492196400-1492203600@www.ludliteratura.si
SUMMARY:Nova iz zbirke Prišleki\, LUD Literatura: Drab: Nočne živali in Osojnik: Hamlet 
DESCRIPTION:V sinergijskem ciklu Ad hoc glasbena improvizacija in slika interpretirata poezijo bosta svoje pesmi interpretirala pesnika Mitja Drab in Iztok Osojnik. 15-minutna izbora pesmi bosta iz njunih dveh Prišlekov\, pesniškega prvenca Nočne živali Mitje Draba in najnovejše pesniške zbirke Hamlet Iztoka Osojnika (dr. i. o.). Zvočno-glasovni odziv na njune pesmi (dvakrat po 15 minut) bo ustvarjala pevka Mateja Gorjup\, medtem pa bo lom slišane poezije v vizualno izrisovala ilustratorka Tinka Volarič. Za dramaturgijo in pogovor na koncu Ad hoca bo poskrbela Petra Koršič.\n \nDogodek organizira LUD Literatura v soorganizaciji Trubarjeve hiše literature in je del kulturnega programa\, ki ga sofinancira Javna agencija za knjigo RS.
URL:https://www.ludliteratura.si/dogodek/nova-iz-zbirke-prisleki-lud-literatura-drab-nocne-zivali-in-osojnik-hamlet/
LOCATION:Trubarjeva hiša literature\, Stritarjeva 7\, Ljubljana\, 1000\, Slovenia
CATEGORIES:ad hoc
END:VEVENT
BEGIN:VEVENT
DTSTART;TZID=Europe/Ljubljana:20170310T190000
DTEND;TZID=Europe/Ljubljana:20170310T210000
DTSTAMP:20260422T155407
CREATED:20170206T055409Z
LAST-MODIFIED:20170206T083318Z
UID:55726-1489172400-1489179600@www.ludliteratura.si
SUMMARY:Ad hoc: Velikonja\, Putrle Srdić\, Kentrić\, Dragičević
DESCRIPTION:V sinergijskem ciklu Ad hoc glasbena improvizacija in slika interpretirata poezijo bosta svoje pesmi interpretirali pesnici Nataša Velikonja in Jana Putrle Srdić. Glasbeni in vizualni odziv na njuno poezijo bosta v živo ustvarila Samira Kentrić in Nina Dragičević.\nZa dramaturgijo bo skrbela zasnovateljica projekta Petra Koršič.\n \nDogodek organizira LUD Literatura v soorganizaciji Trubarjeve hiše literature in je del kulturnega programa\, ki ga sofinancira Javna agencija za knjigo Republike Slovenije.
URL:https://www.ludliteratura.si/dogodek/ad-hoc-velikonja-putrle-srdic-kentric-dragicevic/
LOCATION:Trubarjeva hiša literature\, Stritarjeva 7\, Ljubljana\, 1000\, Slovenia
CATEGORIES:ad hoc
END:VEVENT
BEGIN:VEVENT
DTSTART;TZID=Europe/Ljubljana:20170210T190000
DTEND;TZID=Europe/Ljubljana:20170210T210000
DTSTAMP:20260422T155407
CREATED:20170206T055147Z
LAST-MODIFIED:20170206T055147Z
UID:55725-1486753200-1486760400@www.ludliteratura.si
SUMMARY:Ad hoc: Perović\, Pogačnik\, Hatlak\, Krančan
DESCRIPTION: \nV sinergijskem ciklu Ad hoc glasbena improvizacija in slika interpretirata poezijo bosta svoje pesmi interpretirala pesnika Željko Perović in Barbara Pogačnik. Glasbeni in vizualni odziv na njuno poezijo bosta v živo ustvarila harmonikar Marko Hatlak ter ilustrator in striporisec David Krančan.\nZa dramaturgijo bo skrbela zasnovateljica projekta Petra Koršič.\n \nDogodek organizira LUD Literatura v soorganizaciji Trubarjeve hiše literature in je del kulturnega programa\, ki ga sofinancira Javna agencija za knjigo Republike Slovenije.
URL:https://www.ludliteratura.si/dogodek/ad-hoc-perovic-pogacnik-hatlak-krancan/
LOCATION:Trubarjeva hiša literature\, Stritarjeva 7\, Ljubljana\, 1000\, Slovenia
CATEGORIES:ad hoc
END:VEVENT
BEGIN:VEVENT
DTSTART;TZID=Europe/Ljubljana:20161223T190000
DTEND;TZID=Europe/Ljubljana:20161223T210000
DTSTAMP:20260422T155407
CREATED:20161212T135803Z
LAST-MODIFIED:20161212T135803Z
UID:55245-1482519600-1482526800@www.ludliteratura.si
SUMMARY:Ad hoc: Podlogar\, Detela\, Stefančič\, Erič
DESCRIPTION:Na pesniški branji pesnika in filozofa Gregorja Podlogarja ter fizika\, inovatorja in pesnika Andreja Detele se bosta odzvala glasbenik in oblikovalec Etbin Stefančič ter akademski slikar\, ilustrator in avtor animiranih filmov Milan Erič. Povezuje Petra Koršič. \nDogodek organizira LUD Literatura v soorganizaciji Trubarjeve hiše literature in s podporo Javne agencije za knjigo RS.
URL:https://www.ludliteratura.si/dogodek/ad-hoc-podlogar-detela-stefancic-eric/
LOCATION:Trubarjeva hiša literature\, Stritarjeva 7\, Ljubljana\, 1000\, Slovenia
END:VEVENT
BEGIN:VEVENT
DTSTART;TZID=Europe/Ljubljana:20161217T190000
DTEND;TZID=Europe/Ljubljana:20161217T210000
DTSTAMP:20260422T155407
CREATED:20161214T081701Z
LAST-MODIFIED:20161214T081701Z
UID:55250-1482001200-1482008400@www.ludliteratura.si
SUMMARY:Ad hoc: Koršič\, Jesih\, Kaučič\, Ficko
DESCRIPTION:Ad hoc glasbena improvizacija in slika interpretirata poezijo \n“Če bi še kdaj naneslo\, Oče ti moj\,\nlepo te prosim\, me naredi sneg.”\n(Milan Jesih\, Soneti\, 1989) \nNa pesniški branji zasnovateljice cikla Ad hoc in pesnice Petre Koršič ter slovenskega klasika Milana Jesiha se bosta odzvala madnarodno uveljavljeni tolkalec Zlatko Kaučič ter priznani akademski slikar Mitja Ficko. \nDogodek organizira LUD Literatura\, soorganizator Hiša kulture Šmartno\, s podporo Javne agencije za knjigo RS.
URL:https://www.ludliteratura.si/dogodek/ad-hoc-korsic-jesih-kaucic-ficko/
LOCATION:Hiša kulture\, Šmartno 38–40\, Kojsko\, Brda\, 5211\, Slovenia
END:VEVENT
BEGIN:VEVENT
DTSTART;TZID=Europe/Ljubljana:20161215T170000
DTEND;TZID=Europe/Ljubljana:20161215T190000
DTSTAMP:20260422T155407
CREATED:20161128T085541Z
LAST-MODIFIED:20161128T085541Z
UID:55121-1481821200-1481828400@www.ludliteratura.si
SUMMARY:Ad hoc: Svetel\, Pernarčič\, Lasič\, Janežič
DESCRIPTION:Ad hoc glasbena improvizacija in slika interpretirata poezijo\n\n \nNa pesniški branji Ane Svetel in Radharani Pernarčič se bosta odzvala tolkalec Marko Lasič in ilustrator Adriano Janežič.\n \nDa bo jadranje med konceptom in izvedbo teklo gladko\, bo skrbela avtorica cikla Petra Koršič.\nDogodek organizira LUD Literatura v soorganizaciji Trubarjeve hiše literature in s podporo Javne agencije za knjigo RS.
URL:https://www.ludliteratura.si/dogodek/ad-hoc-svetel-pernarcic-lasic-janezic/
LOCATION:Trubarjeva hiša literature\, Stritarjeva 7\, Ljubljana\, 1000\, Slovenia
END:VEVENT
BEGIN:VEVENT
DTSTART;TZID=Europe/Ljubljana:20161209T190000
DTEND;TZID=Europe/Ljubljana:20161209T210000
DTSTAMP:20260422T155407
CREATED:20161024T205928Z
LAST-MODIFIED:20161115T172604Z
UID:54858-1481310000-1481317200@www.ludliteratura.si
SUMMARY:»Čas sega v večnost kot v človeka meč« (E. Kocbek)
DESCRIPTION:Protagonisti tokratne edicije cikla Ad hoc glasbena improvizacija in slika interpretirata poezijo so pesnika Meta Kušar in David Bandelj\, glasbenica Ingrid Mačus in ilustrator Peter Škerl. Da bo plavanje med konceptom cikla in izvedbo gladko\, bo skrbela avtorica cikla Petra Koršič. \nDogodek v organizaciji LUD Literatura in soorganizaciji Trubarjeve hiše literature finančno podpira Javna agencija za knjigo RS. \nVabljeni!
URL:https://www.ludliteratura.si/dogodek/cas-sega-v-vecnost-kot-v-cloveka-mec-e-kocbek/
LOCATION:Trubarjeva hiša literature\, Stritarjeva 7\, Ljubljana\, 1000\, Slovenia
CATEGORIES:ad hoc
END:VEVENT
BEGIN:VEVENT
DTSTART;TZID=Europe/Ljubljana:20161207T190000
DTEND;TZID=Europe/Ljubljana:20161207T210000
DTSTAMP:20260422T155407
CREATED:20161106T161808Z
LAST-MODIFIED:20161202T201040Z
UID:54979-1481137200-1481144400@www.ludliteratura.si
SUMMARY:Ad hoc: Dintinjana\, Križanič Müller\, Simon\, Lovšin
DESCRIPTION:Protagonisti tokratne edicije cikla Ad hoc glasbena improvizacija in slika interpretirata poezijo so pesnici Veronika Dintinjana in Erika VoukDanica Križanič Müller\, saksofonist Boštjan Simon ter ilustratorka Polona Lovšin. Da bo plavanje med konceptom cikla in izvedbo gladko\, bo skrbela avtorica cikla Petra Koršič. \nDogodek v organizaciji LUD Literatura\, soorganizatorja MKC Maribor in Salon uporabnih umetnosti Maribor\, finančno podpira Javna agencija za knjigo RS.
URL:https://www.ludliteratura.si/dogodek/sticisce-morja-in-neba-poplava-dveh-modrin-e-vouk/
LOCATION:Salon uporabnih umetnosti\, Maribor
END:VEVENT
BEGIN:VEVENT
DTSTART;TZID=Europe/Ljubljana:20161203T190000
DTEND;TZID=Europe/Ljubljana:20161203T210000
DTSTAMP:20260422T155407
CREATED:20161010T074627Z
LAST-MODIFIED:20161010T074627Z
UID:54720-1480791600-1480798800@www.ludliteratura.si
SUMMARY:»To je čas\, ko pesnik čuti\, kako se v njem dviga ta mediteranska moč vzpenjanja.« (René Char\, prev. A. Berger)
DESCRIPTION:Gostji cikla Prevod na oknu pod vodstvom avtorice Petre Koršič\, katerega namen je izpostaviti uspele literarne prevode\, zaradi katerih sta slovenska jezik in kulturno obzorje bogatejša\, sta prevajalki Ana Jelnikar in Lijana Dejak. \n \nDogodek v organizaciji LUD Literatura finančno podpira Javna agencija za knjigo RS.
URL:https://www.ludliteratura.si/dogodek/to-je-cas-ko-pesnik-cuti-kako-se-v-njem-dviga-ta-mediteranska-moc-vzpenjanja-rene-char-prev-a-berger/
LOCATION:LUD Literatura\, Trubarjeva 51\, Ljubljana\, 1000\, Slovenia
CATEGORIES:prevod na oknu
END:VEVENT
BEGIN:VEVENT
DTSTART;TZID=Europe/Ljubljana:20161202T190000
DTEND;TZID=Europe/Ljubljana:20161202T210000
DTSTAMP:20260422T155407
CREATED:20161128T085458Z
LAST-MODIFIED:20161128T085907Z
UID:55120-1480705200-1480712400@www.ludliteratura.si
SUMMARY:Ad hoc: Drev\, Stojčevska\, Mihovilović\, Fakuč\, Pečar
DESCRIPTION: \n Ad hoc glasbena improvizacija in slika interpretirata poezijo\n \nNa pesniški branji Miram Drev in makedonske pesnice Snežane Stojčevske (slovenske prevode bo brala prevajalka Lara Mihovilović) se bosta odzvala tolkalec Marek Fakuč in slikarka Nina Pečar.\n \nDa bo jadranje med konceptom in izvedbo teklo gladko\, bo skrbela avtorica cikla Petra Koršič.\nDogodek organizira LUD Literatura v soorganizaciji Trubarjeve hiše literature in s podporo Javne agencije za knjigo RS.\n 
URL:https://www.ludliteratura.si/dogodek/ad-hoc-drev-stojcevska-fakuc-pecar/
LOCATION:Trubarjeva hiša literature\, Stritarjeva 7\, Ljubljana\, 1000\, Slovenia
END:VEVENT
BEGIN:VEVENT
DTSTART;TZID=Europe/Ljubljana:20161201T200000
DTEND;TZID=Europe/Ljubljana:20161201T210000
DTSTAMP:20260422T155407
CREATED:20161128T085415Z
LAST-MODIFIED:20161128T085415Z
UID:55119-1480622400-1480626000@www.ludliteratura.si
SUMMARY:Ad hoc: Županič\, Čučnik\, Tori\, Lovšin
DESCRIPTION:Ad hoc glasbena improvizacija in slika interpretirata poezijo\n \nNa pesniški branji Jerneja Županiča in Primoža Čučnika se bosta odzvala glasbenik Jure Tori in ilustratorka Polona Lovšin.\n \nDa bo jadranje med konceptom in izvedbo teklo gladko\, bo skrbela avtorica cikla Petra Koršič.\nDogodek organizira LUD Literatura v soorganizaciji Trubarjeve hiše literature in s podporo Javne agencije za knjigo RS.\n 
URL:https://www.ludliteratura.si/dogodek/ad-hoc-zupanic-cucnik-tori-lovsin/
LOCATION:Trubarjeva hiša literature\, Stritarjeva 7\, Ljubljana\, 1000\, Slovenia
END:VEVENT
BEGIN:VEVENT
DTSTART;TZID=Europe/Ljubljana:20161126T210000
DTEND;TZID=Europe/Ljubljana:20161126T220000
DTSTAMP:20260422T155407
CREATED:20161107T090115Z
LAST-MODIFIED:20161107T090115Z
UID:54983-1480194000-1480197600@www.ludliteratura.si
SUMMARY:Antologija tesnobe
DESCRIPTION:Za Antologijo tesnobe so slovenski in tuji avtorji in avtorice pisali eseje o fobijah\, strahovih in tesnobi\, da bi razbili tabuje in osvetlili ta še vedno stigmatizirana področja. Antologija tesnobe ponuja pogled v notranji svet pisateljev in pisateljic ter pokaže\, kako so se sami soočali s tesnobo\, ki je lastna vsakemu človeku. Ana Schnabl\, dr. Vid V. Vodušek\, Tina Vrščaj\, Davorin Lenko.\nPovezovanje: Dijana Matković
URL:https://www.ludliteratura.si/dogodek/antologija-tesnobe/
LOCATION:Slovenski knjižni sejem\, Forum za obiskovalce
END:VEVENT
BEGIN:VEVENT
DTSTART;TZID=Europe/Ljubljana:20161126T190000
DTEND;TZID=Europe/Ljubljana:20161126T210000
DTSTAMP:20260422T155407
CREATED:20161024T205755Z
LAST-MODIFIED:20161024T205755Z
UID:54857-1480186800-1480194000@www.ludliteratura.si
SUMMARY:»Resnica je na tleh\, a si je nihče ne upa pobrati« (T. Tranströmer\, prev. M. Caserman)
DESCRIPTION:Gosta cikla Prevod na oknu pod vodstvom avtorice Petre Koršič sta prevajalca Leonora Flis in Urban Vovk. Namen cikla je izpostaviti uspele literarne prevode\, ki so se prevajalcev dotaknili ter obogatili slovenska jezik in kulturno obzorje. \nDogodek v organizaciji LUD Literatura finančno podpira Javna agencija za knjigo RS. \nVabljeni!
URL:https://www.ludliteratura.si/dogodek/resnica-je-na-tleh-a-si-je-nihce-ne-upa-pobrati-t-transtromer-prev-m-caserman/
LOCATION:LUD Literatura\, Trubarjeva 51\, Ljubljana\, 1000\, Slovenia
CATEGORIES:prevod na oknu
END:VEVENT
BEGIN:VEVENT
DTSTART;TZID=Europe/Ljubljana:20161126T160000
DTEND;TZID=Europe/Ljubljana:20161126T170000
DTSTAMP:20260422T155407
CREATED:20161107T090004Z
LAST-MODIFIED:20161123T114122Z
UID:54982-1480176000-1480179600@www.ludliteratura.si
SUMMARY:Zgodovina Bližnjega vzhoda skozi otroške oči
DESCRIPTION:Francoski stripovski bestseller Arabec prihodnosti (nominiran tudi za prestižno Eisner Award ZDA) Riada Sattoufa\, ki je sin sirskega očeta in francoske matere\, tudi nekdanji risar pri Charlie Hebdo\, skozi otroške oči z ironijo in občutkom za komične detajle gleda tako na realnost arabskega sveta kot na egocentrizem in narcisizem Zahoda. Sodelujejo: Barbara Pogačnik\, Mathias Rambaud\, Blaž Ermenc.
URL:https://www.ludliteratura.si/dogodek/zgodovina-bliznjega-vzhoda-skozi-otroske-oci/
LOCATION:Slovenski knjižni sejem\, Debatna kavarna\, Cankarjev dom (Prvo preddverje)\, Ljubljana\, Slovenia
END:VEVENT
BEGIN:VEVENT
DTSTART;TZID=Europe/Ljubljana:20161125T190000
DTEND;TZID=Europe/Ljubljana:20161125T210000
DTSTAMP:20260422T155407
CREATED:20161024T205529Z
LAST-MODIFIED:20161024T205529Z
UID:54856-1480100400-1480107600@www.ludliteratura.si
SUMMARY:»Ni dovolj odpreti okno\, da bi se videlo polja in reko« (F. Pessoa)
DESCRIPTION:Gosta cikla Prevod na oknu pod vodstvom avtorice Petre Koršič sta književni prevajalki Andreja Kalc in Barbara Pregelj. Namen cikla je izpostaviti uspele literarne prevode\, ki so se prevajalcev dotaknili ter obogatili slovenska jezik in kulturno obzorje. \nDogodek v organizaciji LUD Literatura finančno podpira Javna agencija za knjigo RS. \nVabljeni!
URL:https://www.ludliteratura.si/dogodek/ni-dovolj-odpreti-okno-da-bi-se-videlo-polja-in-reko-f-pessoa/
LOCATION:LUD Literatura\, Trubarjeva 51\, Ljubljana\, 1000\, Slovenia
CATEGORIES:prevod na oknu
END:VEVENT
BEGIN:VEVENT
DTSTART;TZID=Europe/Ljubljana:20161124T120000
DTEND;TZID=Europe/Ljubljana:20161124T130000
DTSTAMP:20260422T155407
CREATED:20161107T085356Z
LAST-MODIFIED:20161107T085356Z
UID:54981-1479988800-1479992400@www.ludliteratura.si
SUMMARY:(Čemu) poezija danes?
DESCRIPTION:Čemu dandanes še pisati poezijo\, ko pa se lahko ukvarjamo denimo z nanoznanostjo? Z gosti\, med katerimi so tako avtorji prvencev kot tudi uveljavljeni pesniki in pesnice\, se bomo pogovarjali o različnih razumevanjih razvoja\, vloge in pomena poezije danes. Sodelujejo: Mitja Drab\, Veronika Dintinjana\, Iztok Osojnik\, Jernej Županič in Andrej Hočevar.
URL:https://www.ludliteratura.si/dogodek/cemu-poezija-danes/
LOCATION:Slovenski knjižni sejem\, Debatna kavarna\, Cankarjev dom (Prvo preddverje)\, Ljubljana\, Slovenia
END:VEVENT
END:VCALENDAR