BEGIN:VCALENDAR
VERSION:2.0
PRODID:-//LUD Literatura - ECPv6.15.3//NONSGML v1.0//EN
CALSCALE:GREGORIAN
METHOD:PUBLISH
X-ORIGINAL-URL:https://www.ludliteratura.si
X-WR-CALDESC:Dogodki za LUD Literatura
REFRESH-INTERVAL;VALUE=DURATION:PT1H
X-Robots-Tag:noindex
X-PUBLISHED-TTL:PT1H
BEGIN:VTIMEZONE
TZID:Europe/Ljubljana
BEGIN:DAYLIGHT
TZOFFSETFROM:+0100
TZOFFSETTO:+0200
TZNAME:CEST
DTSTART:20260329T010000
END:DAYLIGHT
BEGIN:STANDARD
TZOFFSETFROM:+0200
TZOFFSETTO:+0100
TZNAME:CET
DTSTART:20261025T010000
END:STANDARD
END:VTIMEZONE
BEGIN:VEVENT
DTSTART;TZID=Europe/Ljubljana:20260423T200000
DTEND;TZID=Europe/Ljubljana:20260423T220000
DTSTAMP:20260419T151817
CREATED:20260410T194512Z
LAST-MODIFIED:20260410T194512Z
UID:76561-1776974400-1776981600@www.ludliteratura.si
SUMMARY:Praznik knjigarn: Kresnikova ugibanka
DESCRIPTION:V sklopu praznika knjigarn\, ki bo potekal 23. aprila\, bomo za javnost odprli uredniški sestanek Literarno-umetniškega društva Literatura\, ki bo tokrat imel eno samo točko – debato o nominirancih za kresnika 2026\, ki bodo razglašeni prav tisto dopoldne. Pridružite se razgreti debati članov_ic uredništva\, ki bodo v živo komentirali svoje kresniške stavnice. Če pa želite sodelovati pri literarni stavi\, svojo deseterico do 14. aprila pošljite na ludliteratura@yahoo.com. Naj se kreše! \n  \nVeč informacij o dogodku na Facebooku: https://www.facebook.com/events/961855366420059 \n*** \n\n \nPRAZNIK KNJIGARN \n\n \nLetos smo ob svetovnem dnevu knjige in avtorskih pravic – ki ga praznujemo 23. aprila – prvič pripravili praznik knjigarn. Povezali smo knjigarne v Ljubljani\, ki bodo na ta dan še posebej na stežaj odprle vrata\, da bi raziskali in poudarili njihov pomen. Obiščite ali odkrijte svojo najljubšo! \n\n \nPobudi praznika se je pridružilo 12 knjigarn\, ki ponazarjajo živahnost ponudbe: od knjigarne z otroško literaturo do knjigarne\, osredotočene na stripe; od intimnih prostorov\, ki vabijo z ustvarjalnim neredom\, do celega nadstropja natančno kategoriziranih polic. Za praznik so pripravile zanimiv in raznolik program\, na ta dan bodo odprte dlje\, vstop na večino dogodkov je prost. \n\n \nCilj praznika knjigarn je k obisku in raziskovanju knjigarn spodbuditi kar najširšo publiko. Želimo si\, da bi ta dan v letu postal tradicija: priložnost za spoznavanje knjigarn v mestu\, njihove vloge\, programov in vseh\, ki jih sooblikujejo. Ob tej priložnosti smo izdali tudi brezplačni tematski list s krajšimi eseji o pomenu knjigarn in branja\, ki predstavlja vključene knjigarne. Skupaj s programom dogajanja ga kmalu dobite v izbranih knjigarnah. \n\n \nPraznik knjigarn organizira ekipa pisarne Ljubljane\, Unescovega mesta literature s skupnostjo knjigarn.
URL:https://www.ludliteratura.si/dogodek/praznik-knjigarn-kresnikova-ugibanka/
LOCATION:LUDa knjigarna\, Trubarjeva 51\, Ljubljana\, 1000\, Slovenia
CATEGORIES:Pogovori
ATTACH;FMTTYPE=image/jpeg:https://www.ludliteratura.si/wp-content/uploads/2026/04/Praznik-knjigarn.jpg
END:VEVENT
END:VCALENDAR