BEGIN:VCALENDAR
VERSION:2.0
PRODID:-//LUD Literatura - ECPv6.15.3//NONSGML v1.0//EN
CALSCALE:GREGORIAN
METHOD:PUBLISH
X-ORIGINAL-URL:https://www.ludliteratura.si
X-WR-CALDESC:Dogodki za LUD Literatura
REFRESH-INTERVAL;VALUE=DURATION:PT1H
X-Robots-Tag:noindex
X-PUBLISHED-TTL:PT1H
BEGIN:VTIMEZONE
TZID:Europe/Ljubljana
BEGIN:DAYLIGHT
TZOFFSETFROM:+0100
TZOFFSETTO:+0200
TZNAME:CEST
DTSTART:20250330T010000
END:DAYLIGHT
BEGIN:STANDARD
TZOFFSETFROM:+0200
TZOFFSETTO:+0100
TZNAME:CET
DTSTART:20251026T010000
END:STANDARD
END:VTIMEZONE
BEGIN:VEVENT
DTSTART;TZID=Europe/Ljubljana:20250513T180000
DTEND;TZID=Europe/Ljubljana:20250513T190000
DTSTAMP:20260420T082947
CREATED:20250506T201014Z
LAST-MODIFIED:20250506T210105Z
UID:74612-1747159200-1747162800@www.ludliteratura.si
SUMMARY:13. Prepišno uredništvo: Grafitura po Trubarjevi
DESCRIPTION:Kako se literatura skriva in odkriva na mestnih zidovih? To bomo izvedeli na ogledu grafitov po Trubarjevi in Metelkovi\, ki ga bo vodil Gregor Bulc. Začnemo na Trubarjevi 51\, kamor se vrnemo čez eno uro.\nZa ogled je obvezna prijava. Število udeležencev je omejeno\, prijave so odprte do ponedeljka\, 12. maja\, oziroma do zapolnitve mest. Prijava: https://tinyurl.com/bdt86rjs
URL:https://www.ludliteratura.si/dogodek/13-prepisno-urednistvo-grafitura-po-trubarjevi/
CATEGORIES:Prepišno uredništvo
ATTACH;FMTTYPE=image/png:https://www.ludliteratura.si/wp-content/uploads/2023/04/prepisno-urednistvo-prosto-po-prostoru-fb-2.png
END:VEVENT
BEGIN:VEVENT
DTSTART;TZID=Europe/Ljubljana:20250513T190000
DTEND;TZID=Europe/Ljubljana:20250513T200000
DTSTAMP:20260420T082947
CREATED:20250506T201404Z
LAST-MODIFIED:20250506T203358Z
UID:74614-1747162800-1747166400@www.ludliteratura.si
SUMMARY:13. Prepišno uredništvo: Kratki stiki 1: Ajda Bračič & Sašo Puljarević
DESCRIPTION:Letos bodo namesto kratkih predavanj v prostor Prepišnega uredništva vstopile dvojice ustvarjalcev in premišljevalcev literature. Njihovi pogledi se bodo na kratko staknili in po možnosti tudi kaj zaiskrili. Torkovo dvojico sestavljata Ajda Bračič in Sašo Puljarević.
URL:https://www.ludliteratura.si/dogodek/13-prepisno-urednistvo-kratki-stiki-1-ajda-bracic-saso-puljarevic/
CATEGORIES:Prepišno uredništvo
ATTACH;FMTTYPE=image/png:https://www.ludliteratura.si/wp-content/uploads/2023/04/prepisno-urednistvo-prosto-po-prostoru-fb-2.png
END:VEVENT
BEGIN:VEVENT
DTSTART;TZID=Europe/Ljubljana:20250513T200000
DTEND;TZID=Europe/Ljubljana:20250513T213000
DTSTAMP:20260420T082947
CREATED:20250506T201539Z
LAST-MODIFIED:20250506T201616Z
UID:74616-1747166400-1747171800@www.ludliteratura.si
SUMMARY:13. Prepišno uredništvo: S poti\, na poti in v napoto (okrogla miza o potopisju)
DESCRIPTION:Je potopisje zmeraj leposlovni žanr? Lahko ob zajemanju duha prostora zdrži spremembe duha časa? Ga je bolje brati na spletu\, v revijah ali v knjigah? Kako ga zaznamujejo prostori objave? O vsem tem in še marsičem s prehojenih poti po prostoru sveta in prostoru knjig bo Katja Šulc spraševala pisateljico in potopisko Agato Tomažič ter pisatelja\, urednika in navsezadnje tudi avtorja potopisnega prvenca Andreja Blatnika.
URL:https://www.ludliteratura.si/dogodek/13-prepisno-urednistvo-s-poti-na-poti-in-v-napoto-okrogla-miza-o-potopisju/
CATEGORIES:Prepišno uredništvo
ATTACH;FMTTYPE=image/png:https://www.ludliteratura.si/wp-content/uploads/2023/04/prepisno-urednistvo-prosto-po-prostoru-fb-2.png
END:VEVENT
BEGIN:VEVENT
DTSTART;TZID=Europe/Ljubljana:20250514T180000
DTEND;TZID=Europe/Ljubljana:20250514T190000
DTSTAMP:20260420T082947
CREATED:20250506T202155Z
LAST-MODIFIED:20250506T210144Z
UID:74618-1747245600-1747249200@www.ludliteratura.si
SUMMARY:13. Prepišno uredništvo: Stripovska kambra s Karolino Umetnino (srečanje in delavnica)
DESCRIPTION:Karolina Umetnina s svojimi stripi oživlja širjave spletnega prostora\, zdaj pa nam bo razkrila\, kako ustvariti prepričljiv in pristen strip o svojem domačem prostoru\, pa naj gre za domači kraj\, najljubši kotiček v knjigarni ali sobo v študentskem domu.\nZa udeležbo je obvezna prijava. Število udeležencev je omejeno\, prijave so odprte do ponedeljka\, 12. maja\, oziroma do zapolnitve mest. Prijava: https://tinyurl.com/bdd83erh
URL:https://www.ludliteratura.si/dogodek/13-prepisno-urednistvo-stripovska-kambra-s-karolino-umetnino-srecanje-in-delavnica/
CATEGORIES:Prepišno uredništvo
ATTACH;FMTTYPE=image/png:https://www.ludliteratura.si/wp-content/uploads/2023/04/prepisno-urednistvo-prosto-po-prostoru-fb-2.png
END:VEVENT
BEGIN:VEVENT
DTSTART;TZID=Europe/Ljubljana:20250514T190000
DTEND;TZID=Europe/Ljubljana:20250514T200000
DTSTAMP:20260420T082947
CREATED:20250506T202552Z
LAST-MODIFIED:20250506T203300Z
UID:74620-1747249200-1747252800@www.ludliteratura.si
SUMMARY:13. Prepišno uredništvo: Kratki stiki 2: Alex Kama Devetak & Ana Marwan
DESCRIPTION:Letos bodo namesto kratkih predavanj v prostor Prepišnega uredništva vstopile dvojice ustvarjalcev in premišljevalcev literature. Njihovi pogledi se bodo na kratko staknili in po možnosti tudi kaj zaiskrili. Sredino dvojico sestavljata Alex Kama Devetak in Ana Marwan.
URL:https://www.ludliteratura.si/dogodek/13-prepisno-urednistvo-kratki-stiki-2-alex-kama-devetak-ana-marwan/
CATEGORIES:Prepišno uredništvo
ATTACH;FMTTYPE=image/png:https://www.ludliteratura.si/wp-content/uploads/2023/04/prepisno-urednistvo-prosto-po-prostoru-fb-2.png
END:VEVENT
BEGIN:VEVENT
DTSTART;TZID=Europe/Ljubljana:20250514T200000
DTEND;TZID=Europe/Ljubljana:20250514T213000
DTSTAMP:20260420T082947
CREATED:20250506T202920Z
LAST-MODIFIED:20250506T202920Z
UID:74622-1747252800-1747258200@www.ludliteratura.si
SUMMARY:13. Prepišno uredništvo: ZDAj: sodobna ameriška poezija (branje in pogovor)
DESCRIPTION:Med januarjem 2024 in januarjem 2025 je na spletnem portalu v ritmu tedenskih objav nastajala antologija sodobne poezije iz Združenih držav Amerike\, poimenovana ZDAj\, peščica utrinkov iz velikega in nadvse raznolikega vesolja ameriške poezije zadnjega desetletja. ZDAj na Prepišnem uredništvu prvič dobiva svoj fizični prostor. Branje izbranih pesmi bo pospremil kratek pogovor med prevajalko\, urednico in pobudnico antologije Veroniko Dintinjana in pesnikom Gregorjem Podlogarjem.
URL:https://www.ludliteratura.si/dogodek/13-prepisno-urednistvo-zdaj-sodobna-ameriska-poezija-branje-in-pogovor/
CATEGORIES:Prepišno uredništvo
ATTACH;FMTTYPE=image/png:https://www.ludliteratura.si/wp-content/uploads/2023/04/prepisno-urednistvo-prosto-po-prostoru-fb-2.png
END:VEVENT
BEGIN:VEVENT
DTSTART;TZID=Europe/Ljubljana:20250515T180000
DTEND;TZID=Europe/Ljubljana:20250515T190000
DTSTAMP:20260420T082947
CREATED:20250506T203226Z
LAST-MODIFIED:20250506T203226Z
UID:74624-1747332000-1747335600@www.ludliteratura.si
SUMMARY:13. Prepišno uredništvo: Kratki stiki 3: Ana Svetel & Blaž Božič
DESCRIPTION:Letos bodo namesto kratkih predavanj v prostor Prepišnega uredništva vstopile dvojice ustvarjalcev in premišljevalcev literature. Njihovi pogledi se bodo na kratko staknili in po možnosti tudi kaj zaiskrili. Četrtkovo dvojico sestavljata Ana Svetel in Blaž Božič.
URL:https://www.ludliteratura.si/dogodek/13-prepisno-urednistvo-kratki-stiki-3-ana-svetel-blaz-bozic/
CATEGORIES:Prepišno uredništvo
ATTACH;FMTTYPE=image/png:https://www.ludliteratura.si/wp-content/uploads/2023/04/prepisno-urednistvo-prosto-po-prostoru-fb-2.png
END:VEVENT
BEGIN:VEVENT
DTSTART;TZID=Europe/Ljubljana:20250515T190000
DTEND;TZID=Europe/Ljubljana:20250515T203000
DTSTAMP:20260420T082947
CREATED:20250506T203616Z
LAST-MODIFIED:20250506T203616Z
UID:74629-1747335600-1747341000@www.ludliteratura.si
SUMMARY:13. Prepišno uredništvo: Fiktivne konstelacije (okrogla miza)
DESCRIPTION:Kako nastajajo »imaginarni svetovi«? Kako si sploh zamisliti prostor\, ki bo drugačen od našega\, a vendar vsaj malo tudi domač in prepoznaven? Beseda »svet« zajema vse: od neoprijemljivega\, a še kako prepoznavnega vzdušja do običajno-neobičajnih (ali neobičajno-običajnih) likov in zapletov. Skupaj z Jernejem Županičem in Julijo Lukovnjak bo Ana Geršak poklepetala o tem\, kako se konstruirajo alternativne realnosti.
URL:https://www.ludliteratura.si/dogodek/13-prepisno-urednistvo-fiktivne-konstelacije-okrogla-miza/
CATEGORIES:Prepišno uredništvo
ATTACH;FMTTYPE=image/png:https://www.ludliteratura.si/wp-content/uploads/2023/04/prepisno-urednistvo-prosto-po-prostoru-fb-2.png
END:VEVENT
BEGIN:VEVENT
DTSTART;TZID=Europe/Ljubljana:20250515T203000
DTEND;TZID=Europe/Ljubljana:20250515T220000
DTSTAMP:20260420T082947
CREATED:20250506T204019Z
LAST-MODIFIED:20250506T204019Z
UID:74631-1747341000-1747346400@www.ludliteratura.si
SUMMARY:13. Prepišno uredništvo: Besedi na sledi (predstavitev knjige)
DESCRIPTION:Andrej Blatnik že desetletja bere potopise\, 30 let jih izbira in ureja v zbirki S poti\, zdaj pa je prvega tudi napisal. Knjiga Besedi na sledi (UMco 2025) je podnaslovljena Lovljenje knjig po Južni Aziji\, in v njej gre prav za to – Andrej se pomika od ene knjižne postojanke do druge in se srečuje s podobnimi neobvladljivimi knjigoljubci\, spotoma pa gleda Indijo\, Tajsko\, Laos\, Kambodžo\, Singapur in Bali skozi lastno\, z besedami zaznamovano perspektivo. Pogovor vodi Katja Šulc.
URL:https://www.ludliteratura.si/dogodek/13-prepisno-urednistvo-besedi-na-sledi-predstavitev-knjige/
CATEGORIES:Prepišno uredništvo
ATTACH;FMTTYPE=image/png:https://www.ludliteratura.si/wp-content/uploads/2023/04/prepisno-urednistvo-prosto-po-prostoru-fb-2.png
END:VEVENT
BEGIN:VEVENT
DTSTART;TZID=Europe/Ljubljana:20250516T180000
DTEND;TZID=Europe/Ljubljana:20250516T190000
DTSTAMP:20260420T082947
CREATED:20250506T204826Z
LAST-MODIFIED:20250506T205046Z
UID:74633-1747418400-1747422000@www.ludliteratura.si
SUMMARY:13. Prepišno uredništvo: Popotovanje po LUDi knjigarni: od tarče do kita (srečanje in delavnica)
DESCRIPTION:Lani je v slovenskem prevodu prvič izšla fascinantna knjiga Popotovanje po moji sobi\, ki jo je Xavier de Maistre napisal\, ko je bil obsojen na 42 dni hišnega pripora\, zato je opisal vse\, kar je videl in doživljal v svoji sobi. Skupaj s pisateljico Ano Svetel se bomo tako v njegovi maniri sprehodili po LUDi knjigarni in poskusili napisati pesem\, zgodbo\, esej … \nZa udeležbo je obvezna prijava. Število udeležencev je omejeno\, prijave so odprte do ponedeljka\, 12. maja\, oziroma do zapolnitve mest. Prijava: https://tinyurl.com/mr2b5ttn
URL:https://www.ludliteratura.si/dogodek/13-prepisno-urednistvo-popotovanje-po-ludi-knjigarni-od-tarce-do-kita-srecanje-in-delavnica/
CATEGORIES:Prepišno uredništvo
ATTACH;FMTTYPE=image/png:https://www.ludliteratura.si/wp-content/uploads/2023/04/prepisno-urednistvo-prosto-po-prostoru-fb-2.png
END:VEVENT
BEGIN:VEVENT
DTSTART;TZID=Europe/Ljubljana:20250516T190000
DTEND;TZID=Europe/Ljubljana:20250516T200000
DTSTAMP:20260420T082947
CREATED:20250506T205608Z
LAST-MODIFIED:20250506T205608Z
UID:74637-1747422000-1747425600@www.ludliteratura.si
SUMMARY:13. Prepišno uredništvo: Pripovedovalski večer: Popotovanje od Litije do Čateža
DESCRIPTION:Kot je na Prepišnem uredništvu že tradicionalno\, se bomo tudi tokrat prepustili pripovedovalkama Maši Budič in Katarini Nahtigal\, ki nas bosta popeljali po poteh prvega slovenskega literarnega potopisa izpod peresa Frana Levstika.
URL:https://www.ludliteratura.si/dogodek/13-prepisno-urednistvo-pripovedovalski-vecer-popotovanje-od-litije-do-cateza/
CATEGORIES:Prepišno uredništvo
ATTACH;FMTTYPE=image/png:https://www.ludliteratura.si/wp-content/uploads/2023/04/prepisno-urednistvo-prosto-po-prostoru-fb-2.png
END:VEVENT
BEGIN:VEVENT
DTSTART;TZID=Europe/Ljubljana:20250516T200000
DTEND;TZID=Europe/Ljubljana:20250516T220000
DTSTAMP:20260420T082947
CREATED:20250506T205923Z
LAST-MODIFIED:20250506T205923Z
UID:74639-1747425600-1747432800@www.ludliteratura.si
SUMMARY:13. Prepišno uredništvo: V kvadratu vrat človek (zaključek festivala in druženje)
DESCRIPTION:Ko se bomo po celem tednu že dodobra umestili v prostor\, bo čas še za zapolnitev naših notranjih prostorov z glasbo\, druženjem in dobrotami naših sponzorjev. Tudi kakšno presenečenje nas morda preseneti.
URL:https://www.ludliteratura.si/dogodek/13-prepisno-urednistvo-v-kvadratu-vrat-clovek-zakljucek-festivala-in-druzenje/
CATEGORIES:Prepišno uredništvo
ATTACH;FMTTYPE=image/png:https://www.ludliteratura.si/wp-content/uploads/2023/04/prepisno-urednistvo-prosto-po-prostoru-fb-2.png
END:VEVENT
END:VCALENDAR